BEGIN:VCALENDAR
VERSION:2.0
PRODID:-//www.childrensheartfoundation.org//NONSGML kigkonsult.se iCalcreat
 or 2.30.10//
CALSCALE:GREGORIAN
METHOD:PUBLISH
UID:bde169b3-975e-48bf-a7ed-0a231226cf65
X-WR-CALDESC:Join us for a meaningful one-mile walk where heart families\, 
 supporters\, and survivors unite for change. This family-friendly event br
 ings our community together\, honoring Heart Warriors we've lost and celeb
 rating those still fighting. We walk side by side - heart families\, berea
 ved families\, and supporters - showing that no one faces CHDs alone.\n\n
X-WR-RELCALID:be9c124fec9f161d9a6e1103f172db78
X-WR-TIMEZONE:America/Chicago
BEGIN:VTIMEZONE
TZID:America/Chicago
BEGIN:STANDARD
TZNAME:CST
DTSTART:20241103T020000
TZOFFSETFROM:-0500
TZOFFSETTO:-0600
RDATE:20251102T020000
RDATE:20261101T020000
END:STANDARD
BEGIN:DAYLIGHT
TZNAME:CDT
DTSTART:20250309T020000
TZOFFSETFROM:-0600
TZOFFSETTO:-0500
RDATE:20260308T020000
RDATE:20270314T020000
END:DAYLIGHT
END:VTIMEZONE
BEGIN:VEVENT
UID:fe405429-b90b-453c-b909-7d1f3c10ad1b
DTSTAMP:20260424T143313Z
DESCRIPTION:Join us for a meaningful one-mile walk where heart families\, s
 upporters\, and survivors unite for change. This family-friendly event bri
 ngs our community together\, honoring Heart Warriors we've lost and celebr
 ating those still fighting. We walk side by side - heart families\, bereav
 ed families\, and supporters - showing that no one faces CHDs alone.\n\n
DTSTART;TZID=America/Chicago:20251019T050000
DTEND;TZID=America/Chicago:20251019T050001
LOCATION:Northbank Riverwalk Artist Square\, Jacksonville\, FL
SUMMARY:Jacksonville Congenital Heart Walk
END:VEVENT
END:VCALENDAR
