BEGIN:VCALENDAR
VERSION:2.0
PRODID:-//www.childrensheartfoundation.org//NONSGML kigkonsult.se iCalcreat
 or 2.30.10//
CALSCALE:GREGORIAN
METHOD:PUBLISH
UID:3530f52e-17e5-440b-9f7d-2faaa0337def
X-WR-CALDESC:Join us for a meaningful one-mile walk where heart families\, 
 supporters\, and survivors unite for change. This family-friendly event br
 ings our community together\, honoring Heart Warriors we've lost and celeb
 rating those still fighting. We walk side by side - heart families\, berea
 ved families\, and supporters - showing that no one faces CHDs alone.\n\nG
 et a head start on making an impact! Register today and share your event p
 age on Facebook to kick off your fundraiser and support life-saving CHD re
 search!\n
X-WR-RELCALID:3ef5f5ef96215f6c68e9f8fd05b0b6c4
X-WR-TIMEZONE:America/Chicago
BEGIN:VTIMEZONE
TZID:America/Chicago
BEGIN:STANDARD
TZNAME:CST
DTSTART:20241103T020000
TZOFFSETFROM:-0500
TZOFFSETTO:-0600
RDATE:20251102T020000
RDATE:20261101T020000
END:STANDARD
BEGIN:DAYLIGHT
TZNAME:CDT
DTSTART:20250309T020000
TZOFFSETFROM:-0600
TZOFFSETTO:-0500
RDATE:20260308T020000
RDATE:20270314T020000
END:DAYLIGHT
END:VTIMEZONE
BEGIN:VEVENT
UID:b0f10ad6-3461-4ec6-b2eb-cf4b48781c4a
DTSTAMP:20260423T152430Z
DESCRIPTION:Join us for a meaningful one-mile walk where heart families\, s
 upporters\, and survivors unite for change. This family-friendly event bri
 ngs our community together\, honoring Heart Warriors we've lost and celebr
 ating those still fighting. We walk side by side - heart families\, bereav
 ed families\, and supporters - showing that no one faces CHDs alone.\n\nGe
 t a head start on making an impact! Register today and share your event pa
 ge on Facebook to kick off your fundraiser and support life-saving CHD res
 earch!\n
DTSTART;TZID=America/Chicago:20251025T050000
DTEND;TZID=America/Chicago:20251025T050001
LOCATION:Rock Creek Park\, Washington DC
SUMMARY:Washington DC Congenital Heart Walk
END:VEVENT
END:VCALENDAR
