BEGIN:VCALENDAR
VERSION:2.0
PRODID:-//www.childrensheartfoundation.org//NONSGML kigkonsult.se iCalcreat
 or 2.30.10//
CALSCALE:GREGORIAN
METHOD:PUBLISH
UID:c2583944-3b4e-4d85-baa3-054dfe787a4e
X-WR-CALDESC:
X-WR-RELCALID:8d58fdc9c03d37e2b8307b8731c52e33
X-WR-TIMEZONE:America/Chicago
BEGIN:VTIMEZONE
TZID:America/Chicago
BEGIN:STANDARD
TZNAME:CST
DTSTART:20251102T020000
TZOFFSETFROM:-0500
TZOFFSETTO:-0600
RDATE:20261101T020000
RDATE:20271107T020000
END:STANDARD
BEGIN:DAYLIGHT
TZNAME:CDT
DTSTART:20260308T020000
TZOFFSETFROM:-0600
TZOFFSETTO:-0500
RDATE:20270314T020000
END:DAYLIGHT
END:VTIMEZONE
BEGIN:VEVENT
UID:325802c5-0e5d-4847-afae-1327fdf091a5
DTSTAMP:20260423T135333Z
DESCRIPTION:
DTSTART;TZID=America/Chicago:20260530T050000
DTEND;TZID=America/Chicago:20260530T050001
LOCATION:Milton Hershey School\, Hershey\, PA
SUMMARY:Hershey Congenital Heart Walk
END:VEVENT
END:VCALENDAR
