BEGIN:VCALENDAR
VERSION:2.0
PRODID:-//www.childrensheartfoundation.org//NONSGML kigkonsult.se iCalcreat
 or 2.30.10//
CALSCALE:GREGORIAN
METHOD:PUBLISH
UID:455cfba0-8bd0-4a3e-be93-28b3aa11b668
X-WR-CALDESC:
X-WR-RELCALID:cb788419871b103a5628fc786ba9c890
X-WR-TIMEZONE:America/Chicago
BEGIN:VTIMEZONE
TZID:America/Chicago
BEGIN:STANDARD
TZNAME:CST
DTSTART:20251102T020000
TZOFFSETFROM:-0500
TZOFFSETTO:-0600
RDATE:20261101T020000
RDATE:20271107T020000
END:STANDARD
BEGIN:DAYLIGHT
TZNAME:CDT
DTSTART:20260308T020000
TZOFFSETFROM:-0600
TZOFFSETTO:-0500
RDATE:20270314T020000
END:DAYLIGHT
END:VTIMEZONE
BEGIN:VEVENT
UID:4e19d2d6-ce88-4301-93cf-d6777a2d3b55
DTSTAMP:20260423T135515Z
DESCRIPTION:
DTSTART;TZID=America/Chicago:20260801T050000
DTEND;TZID=America/Chicago:20260801T050001
LOCATION:Rochester Municipal Park\, Rochester\, MI
SUMMARY:Detroit Congenital Heart Walk Presented by Rick Young Insurance and
  Grateful Giving Foundation
END:VEVENT
END:VCALENDAR
